BEGIN:VCALENDAR
VERSION:2.0
METHOD:PUBLISH
PRODID:-//Telerik Inc.//Sitefinity CMS 14.4//EN
BEGIN:VTIMEZONE
TZID:Eastern Standard Time
BEGIN:STANDARD
DTSTART:20251102T020000
RRULE:FREQ=YEARLY;BYDAY=1SU;BYHOUR=2;BYMINUTE=0;BYMONTH=11
TZNAME:Eastern Standard Time
TZOFFSETFROM:-0400
TZOFFSETTO:-0500
END:STANDARD
BEGIN:DAYLIGHT
DTSTART:20250301T020000
RRULE:FREQ=YEARLY;BYDAY=2SU;BYHOUR=2;BYMINUTE=0;BYMONTH=3
TZNAME:Eastern Daylight Time
TZOFFSETFROM:-0500
TZOFFSETTO:-0400
END:DAYLIGHT
END:VTIMEZONE
BEGIN:VEVENT
DESCRIPTION:Location: Centennial Golf Club\nAddress: 185 John Simpson Rd\, 
 Carmel\, New York\nContact: Austin Ramsey\nEmail: adamsramsey@gmail.com\nH
 ow to find us: For directions\, call 845-225-5700\nPhone: 615-403-1932\n\n
 "Implant Surgery Simplified"Instructor:  Bharat Joshi\, D.D.S.Synopsis:  T
 his course will provide an overview of implant surgery geared toward the g
 eneral dentist. ADA C•E•R•P® │Continuing Education Recognition Program    
     
DTEND:20260522T003000Z
DTSTAMP:20260422T001617Z
DTSTART:20260521T223000Z
LOCATION:185 John Simpson Rd\, Carmel\, New York
SEQUENCE:0
SUMMARY:Putnam County Dental Society
UID:RFCALITEM639124137774735452
X-ALT-DESC;FMTTYPE=text/html:<strong>Location:</strong> Centennial Golf Clu
 b<br><strong>Address:</strong> 185 John Simpson Rd\, Carmel\, New York<br>
 <strong>Contact:</strong> Austin Ramsey<br><strong>Email:</strong> <a href
 ="mailto:adamsramsey@gmail.com">adamsramsey@gmail.com</a><br><strong>How t
 o find us:</strong> For directions\, call 845-225-5700<br><strong>Phone:</
 strong> 615-403-1932<br><br><p><strong>"Implant Surgery Simplified"</stron
 g></p><p><strong><em>Instructor:&nbsp\; </em></strong><em>Bharat Joshi\, D
 .D.S.</em></p><p><strong>Synopsis:&nbsp\; </strong>This course will provid
 e an overview of implant surgery geared toward the general dentist.</p><p>
 &nbsp\;</p><p>ADA C•E•R•P® │Continuing Education Recognition Program&nbsp\
 ; &nbsp\; &nbsp\; &nbsp\;&nbsp\;</p>
END:VEVENT
END:VCALENDAR
